BEGIN:VCALENDAR
VERSION:2.0
PRODID:-// - ECPv6.15.20//NONSGML v1.0//EN
CALSCALE:GREGORIAN
METHOD:PUBLISH
X-ORIGINAL-URL:https://autisminmuseums.com
X-WR-CALDESC:Events for 
REFRESH-INTERVAL;VALUE=DURATION:PT1H
X-Robots-Tag:noindex
X-PUBLISHED-TTL:PT1H
BEGIN:VTIMEZONE
TZID:Europe/London
BEGIN:DAYLIGHT
TZOFFSETFROM:+0000
TZOFFSETTO:+0100
TZNAME:BST
DTSTART:20250330T010000
END:DAYLIGHT
BEGIN:STANDARD
TZOFFSETFROM:+0100
TZOFFSETTO:+0000
TZNAME:GMT
DTSTART:20251026T010000
END:STANDARD
BEGIN:DAYLIGHT
TZOFFSETFROM:+0000
TZOFFSETTO:+0100
TZNAME:BST
DTSTART:20260329T010000
END:DAYLIGHT
BEGIN:STANDARD
TZOFFSETFROM:+0100
TZOFFSETTO:+0000
TZNAME:GMT
DTSTART:20261025T010000
END:STANDARD
BEGIN:DAYLIGHT
TZOFFSETFROM:+0000
TZOFFSETTO:+0100
TZNAME:BST
DTSTART:20270328T010000
END:DAYLIGHT
BEGIN:STANDARD
TZOFFSETFROM:+0100
TZOFFSETTO:+0000
TZNAME:GMT
DTSTART:20271031T010000
END:STANDARD
END:VTIMEZONE
BEGIN:VEVENT
DTSTART;TZID=Europe/London:20260420T180000
DTEND;TZID=Europe/London:20260420T200000
DTSTAMP:20260420T232643
CREATED:20260321T155324Z
LAST-MODIFIED:20260321T155324Z
UID:10001320-1776708000-1776715200@autisminmuseums.com
SUMMARY:Relaxed event - Samurai @ British Museum\, London
DESCRIPTION:This event welcomes people with disabilities\, neurodivergent individuals and anyone with sensory needs seeking a calmer environment in which to view the Samurai exhibition.\nDiscover the reality behind a millennium of myth at this sweeping exhibition on the legendary Japanese warriors. The samurai is an iconic figure\, evoking images of formidable fighters possessing ideals of courage\, honour and self-sacrifice. Yet much of what we think we know about samurai is invented tradition. \nOur concept of samurai today has its origins in medieval reality. A distinct warrior class – known in Japan as bushi – emerged and gained political dominance from the 1100s. But during a prolonged period of peace\, beginning in 1615\, the samurai moved away from the battlefield to become an elite social class that also included women. Samurai men formed the government\, serving as ministers and bureaucrats. Many became leaders in scholarship and the arts\, as patrons\, poets and painters\, in a world where intellectual pursuits were just as important as swordsmanship. \nThis event is part of the public programme supporting the exhibition Samurai (open until 4 May 2026). \nBooking information\n\nBook now(Opens in new window) to reserve your place.\nPlease meet at the Montague Place entrance at 6pm. View the Museum map(Opens in new window) for more information.\nAssistance dogs are very welcome in the Museum.\nIf you have any access requirements or need assistance booking this event please email access@britishmuseum.org or phone +44 (0)20 7323 8971.
URL:https://autisminmuseums.com/event/relaxed-event-samurai-british-museum-london-2/
LOCATION:British Museum\, London\, WC1B 3DG\, United Kingdom
CATEGORIES:London
GEO:51.5197031;-0.1268362
END:VEVENT
BEGIN:VEVENT
DTSTART;TZID=Europe/London:20260424T093000
DTEND;TZID=Europe/London:20260424T103000
DTSTAMP:20260420T232643
CREATED:20260408T163545Z
LAST-MODIFIED:20260408T163545Z
UID:10001330-1777023000-1777026600@autisminmuseums.com
SUMMARY:Relaxed session: Entire Museum @ Royal Albert Memorial Museum\, Exeter
DESCRIPTION:Explore the whole museum at your own pace in a quiet and relaxed setting\, and visit our fantastic temporary exhibitions – Grayson Perry: Aspects of Myself\, and Wow! Amazing Science in Children’s Books – without the crowds and with AV sound turned off. \nGrayson Perry: Aspects of Myself is RAMM’s first exhibition of the work of one of Britain’s best-known contemporary artists. From textiles and pots to etchings and woodcuts\, Grayson Perry: Aspects of Myself explores a sense of self through a range of media and storytelling techniques. \nIf you wish to visit the Grayson Perry exhibition\, you will need to buy a exhibition ticket here: Grayson Perry: Aspects of Myself – RAMM \nWow! Amazing Science in Children’s Books takes you on a journey from outer space to deepest underground\, and into the workings of the human body\, through the creations of artists including Oliver Jeffers\, David Macauley\, Marcia Williams and Yuval Zommer. This is a free exhibition. \nAlternatively\, take the time to wander around the entire museum – explore Roman Exeter\, marvel at objects in our World Cultures gallery\, and say hi to Gerald the Giraffe! \nRAMM regularly holds Relaxed Sessions. These are bookable times to visit the museum or its exhibitions when visitor numbers are restricted\, and all AV sound is turned off. They are usually in the morning before the museum opens to the public or similarly in the evenings after it has closed. \nRAMM’s Relaxed Sessions are for anyone who seeks a relaxed nature of visit\, but are particularly suitable for neurodivergent visitors and visitors with anxiety or other associated conditions. During the sessions\, you are welcome to move and make noise around the museum. \nPlease see our What’s On page for any upcoming sessions. \nGet in touch on ramm.enquiries@exeter.gov.uk or ask at Reception for more information. \nSee our access page for visual stories to prepare your visit.
URL:https://autisminmuseums.com/event/relaxed-session-entire-museum-royal-albert-memorial-museum-exeter/
LOCATION:Royal Albert Memorial Museum and Art Gallery\, Exeter\, EX4 3RX\, United Kingdom
CATEGORIES:South West
GEO:50.7252856;-3.5325296
END:VEVENT
BEGIN:VEVENT
DTSTART;TZID=Europe/London:20260425T090000
DTEND;TZID=Europe/London:20260425T100000
DTSTAMP:20260420T232643
CREATED:20260114T171753Z
LAST-MODIFIED:20260213T165914Z
UID:10001272-1777107600-1777111200@autisminmuseums.com
SUMMARY:Relaxed Opening @ Oxford University Museum of Natural History and Pitt Rivers Museum
DESCRIPTION:Relaxed Morning Opening\nSaturday\, 25 April 2026\n09.00 – 10.00\n\n\n\n\n\n\n\n\n\n\n\n\n\n\n\n\n\n\n\n\n\n\n\n\n\n\n\n\n\n\n\n\n\n\n\n\n\n\n\n\n\nAbout the event\nRelaxed morning openings allow visitors to experience the Museum of Natural History and Pitt Rivers Museum early in the day\, when the buildings are quiet. We open an hour early to welcome visitors who may struggle in the museums at peak times. The number of visitors is capped\, which reduces ambient noise levels and how full the space is. \nThe relaxed morning openings are designed for visitors who may benefit from a calmer environment\, including those on the autism spectrum\, have additional learning needs or sensory and communication difficulties\, and anyone who feels they would benefit from this session. \nFamily members are welcome to support the visit. \nQuiet spaces are available during the opening. \nYou will be able to visit both the Museum of Natural History and the Pitt Rivers Museum during this session. \n\nAccessibility information\n\n\n\n\nWheelchair accessible?\nYes\n\n\nHearing loops?\nNo\n\n\nSeating?\nSome seating is available in the Museum\n\n\nRefreshments?\nNo\n\n\nFlashing lights?\nNo\n\n\nLoud noises?\nNo\n\n\n\n\n  \nFor more information\, please visit our accessibility webpage.
URL:https://autisminmuseums.com/event/relaxed-opening-oxford-university-museum-of-natural-history-and-pitt-rivers-museum/
LOCATION:Oxford University Museum of Natural History\, Oxford\, OX1 3PW
CATEGORIES:South East
GEO:51.7590278;-1.2564158
END:VEVENT
BEGIN:VEVENT
DTSTART;TZID=Europe/London:20260427T180000
DTEND;TZID=Europe/London:20260427T200000
DTSTAMP:20260420T232643
CREATED:20260321T154433Z
LAST-MODIFIED:20260321T154433Z
UID:10001318-1777312800-1777320000@autisminmuseums.com
SUMMARY:Relaxed event - Hawaiʻi: a kingdom crossing oceans @ British Museum\, London
DESCRIPTION:This event welcomes people with disabilities\, neurodivergent individuals and anyone with sensory needs seeking a calmer environment in which to view Hawaiʻi: a kingdom crossing oceans.\nThe exhibition is a dazzling celebration of the artistry and history of Hawaiʻi. It brings together remarkable objects – from feathered cloaks worn by chiefs and finely carved deities\, to powerful shark-toothed weapons and bold contemporary works by Kānaka ʻŌiwi (Native Hawaiian) artists. \nIn 1824\, the young King Liholiho and Queen Kamāmalu travelled across vast oceans on a journey that would mark a turning point in the history of their kingdom\, Hawaiʻi. The exhibition commemorates over 200 years since this ill-fated royal visit and sheds light on Hawaiʻi’s history and culture through an exploration of the complex and enduring relationship between the Hawaiian and British nations. \nThis event is part of the public programme supporting the exhibition Hawaiʻi: a kingdom crossing oceans (open until 25 May 2026). \nBooking information\n\nBook now(Opens in new window) to reserve your place.\nPlease meet at the Montague Place entrance at 6pm. View the Museum map(Opens in new window) for more information.\nAssistance dogs are very welcome in the Museum.\nIf you have any access requirements or need assistance booking this event please email access@britishmuseum.org or phone +44 (0)20 7323 8971.
URL:https://autisminmuseums.com/event/relaxed-event-hawai%ca%bbi-a-kingdom-crossing-oceans-british-museum-london-2/
LOCATION:British Museum\, London\, WC1B 3DG\, United Kingdom
CATEGORIES:London
GEO:51.5197031;-0.1268362
END:VEVENT
BEGIN:VEVENT
DTSTART;TZID=Europe/London:20260428T103000
DTEND;TZID=Europe/London:20260428T113000
DTSTAMP:20260420T232643
CREATED:20260311T093138Z
LAST-MODIFIED:20260311T093926Z
UID:10001311-1777372200-1777375800@autisminmuseums.com
SUMMARY:Relaxed mornings for adults | April (autism and learning disability friendly) @ Portrait\, Scotland
DESCRIPTION:Relaxed mornings for adults | April (autism and learning disability friendly)\n\n Share \n\n\n\n\n\n\n\n\nPortrait \nTuesday 28 April 2025\, 10.30–11.30am \nFree \nBooking essential \nBook tickets \n\n\n\n\n\n\n\n\n\n\n\n\nJoin us at the Portrait for regular\, relaxed\, sensory-friendly mornings for adults with additional support needs\, including autistic adults and those with learning disabilities. At these sessions you can meet other people\, see artworks in our gallery spaces and take part in creative activities. There will be a quiet\, comfortable space available at all times for you to use. \nPlaces are free but limited so please book online. Only one ticket is needed per participant\, companions do not need a ticket. \nFor more information or assistance please contact us on 0131 624 6410 or learning@nationalgalleries.org. \nWatch an introduction to the gallery \nDownload sensory map
URL:https://autisminmuseums.com/event/relaxed-mornings-for-adults-april-autism-and-learning-disability-friendly-modern-one-scotland/
LOCATION:Portrait Scotland\, Edinburgh\, EH2 1JD\, United Kingdom
CATEGORIES:Scotland
GEO:55.9555113;-3.1935925
END:VEVENT
END:VCALENDAR